BEGIN:VCALENDAR
VERSION:2.0
PRODID:-//Daniel Keith Amerine - ECPv6.15.20//NONSGML v1.0//EN
CALSCALE:GREGORIAN
METHOD:PUBLISH
X-WR-CALNAME:Daniel Keith Amerine
X-ORIGINAL-URL:https://danielkeithamerine.com
X-WR-CALDESC:Events for Daniel Keith Amerine
REFRESH-INTERVAL;VALUE=DURATION:PT1H
X-Robots-Tag:noindex
X-PUBLISHED-TTL:PT1H
BEGIN:VTIMEZONE
TZID:America/Chicago
BEGIN:DAYLIGHT
TZOFFSETFROM:-0600
TZOFFSETTO:-0500
TZNAME:CDT
DTSTART:20240310T080000
END:DAYLIGHT
BEGIN:STANDARD
TZOFFSETFROM:-0500
TZOFFSETTO:-0600
TZNAME:CST
DTSTART:20241103T070000
END:STANDARD
BEGIN:DAYLIGHT
TZOFFSETFROM:-0600
TZOFFSETTO:-0500
TZNAME:CDT
DTSTART:20250309T080000
END:DAYLIGHT
BEGIN:STANDARD
TZOFFSETFROM:-0500
TZOFFSETTO:-0600
TZNAME:CST
DTSTART:20251102T070000
END:STANDARD
BEGIN:DAYLIGHT
TZOFFSETFROM:-0600
TZOFFSETTO:-0500
TZNAME:CDT
DTSTART:20260308T080000
END:DAYLIGHT
BEGIN:STANDARD
TZOFFSETFROM:-0500
TZOFFSETTO:-0600
TZNAME:CST
DTSTART:20261101T070000
END:STANDARD
END:VTIMEZONE
BEGIN:VEVENT
DTSTART;TZID=America/Chicago:20250220T170000
DTEND;TZID=America/Chicago:20250220T180000
DTSTAMP:20260422T131629
CREATED:20250220T065411Z
LAST-MODIFIED:20250220T070902Z
UID:2404-1740070800-1740074400@danielkeithamerine.com
SUMMARY:BGSSA Program (February 20th\, 2025)
DESCRIPTION:TUNE IN\n\n\n  \n  \n	\n\n\n\n\n\n\n  \n  \n	\n\n\n\n\n  \n  \n	\n\n\n\n\n        \n    \n    \n    \n    \n            \n                    \n            \n            \n\n    \n    \n    \n    \n    \n    \n\n    \n        Click Here to Tune In (WOTG TV Network website)\n\n        \n        \n                \n\n    \n\n\n\nTune Time: 5pm CSTMonday February 10th\, 2025\n\n\n  \n  \n	\n\n\n\n\n        \n    \n    \n    \n    \n            \n                    \n            \n            \n\n    \n    \n    \n    \n    \n    \n\n    \n        Click Here to Tune to Branson Gospel TV on ROKU\n\n        \n        \n                \n\n    \n\n\n\nTune Time: 5pm CSTMonday February 10th\, 2025
URL:https://danielkeithamerine.com/event/bgssa-program-february-20th-2025/
LOCATION:ROKU and WOTG TV Network – www.wotgtvnetwork.com
CATEGORIES:BGSSA Program
END:VEVENT
BEGIN:VEVENT
DTSTART;TZID=America/Chicago:20250210T170000
DTEND;TZID=America/Chicago:20250210T180000
DTSTAMP:20260422T131629
CREATED:20250210T171934Z
LAST-MODIFIED:20250212T002933Z
UID:2386-1739206800-1739210400@danielkeithamerine.com
SUMMARY:BGSSA Program (February 10th\, 2025)
DESCRIPTION:TUNE IN\n\n\n  \n  \n	\n\n\n\n\n\n\n  \n  \n	\n\n\n\n\n  \n  \n	\n\n\n\n\n        \n    \n    \n    \n    \n            \n                    \n            \n            \n\n    \n    \n    \n    \n    \n    \n\n    \n        Click Here to Tune In (WOTG TV Network website)\n\n        \n        \n                \n\n    \n\n\n\nTune Time: 5pm CSTMonday February 10th\, 2025\n\n\n  \n  \n	\n\n\n\n\n        \n    \n    \n    \n    \n            \n                    \n            \n            \n\n    \n    \n    \n    \n    \n    \n\n    \n        Click Here to Tune to Branson Gospel TV on ROKU\n\n        \n        \n                \n\n    \n\n\n\nTune Time: 5pm CSTMonday February 10th\, 2025
URL:https://danielkeithamerine.com/event/bgssa-program-february-10th-2025/
LOCATION:ROKU and WOTG TV Network – www.wotgtvnetwork.com
CATEGORIES:BGSSA Program
END:VEVENT
BEGIN:VEVENT
DTSTART;TZID=America/Chicago:20250208T170000
DTEND;TZID=America/Chicago:20250208T180000
DTSTAMP:20260422T131629
CREATED:20250206T062902Z
LAST-MODIFIED:20250212T002841Z
UID:2365-1739034000-1739037600@danielkeithamerine.com
SUMMARY:BGSSA Program (February 8th\, 2025)
DESCRIPTION:TUNE IN\n\n\n  \n  \n	\n\n\n\n\n\n\n  \n  \n	\n\n\n\n\n  \n  \n	\n\n\n\n\n        \n    \n    \n    \n    \n            \n                    \n            \n            \n\n    \n    \n    \n    \n    \n    \n\n    \n        Click Here to Tune In (WOTG TV Network website)\n\n        \n        \n                \n\n    \n\n\n\nTune Time: 5pm CSTMonday February 10th\, 2025\n\n\n  \n  \n	\n\n\n\n\n        \n    \n    \n    \n    \n            \n                    \n            \n            \n\n    \n    \n    \n    \n    \n    \n\n    \n        Click Here to Tune to Branson Gospel TV on ROKU\n\n        \n        \n                \n\n    \n\n\n\nTune Time: 5pm CSTMonday February 10th\, 2025
URL:https://danielkeithamerine.com/event/bgssa-program-february-8th-2025/
LOCATION:ROKU and WOTG TV Network – www.wotgtvnetwork.com
CATEGORIES:BGSSA Program
END:VEVENT
BEGIN:VEVENT
DTSTART;TZID=America/Chicago:20250206T170000
DTEND;TZID=America/Chicago:20250206T180000
DTSTAMP:20260422T131629
CREATED:20250206T053159Z
LAST-MODIFIED:20250212T002748Z
UID:2338-1738861200-1738864800@danielkeithamerine.com
SUMMARY:BGSSA Program (February 6th\, 2025)
DESCRIPTION:TUNE IN\n\n\n  \n  \n	\n\n\n\n\n\n\n  \n  \n	\n\n\n\n\n  \n  \n	\n\n\n\n\n        \n    \n    \n    \n    \n            \n                    \n            \n            \n\n    \n    \n    \n    \n    \n    \n\n    \n        Click Here to Tune In (WOTG TV Network website)\n\n        \n        \n                \n\n    \n\n\n\nTune Time: 5pm CSTMonday February 10th\, 2025\n\n\n  \n  \n	\n\n\n\n\n        \n    \n    \n    \n    \n            \n                    \n            \n            \n\n    \n    \n    \n    \n    \n    \n\n    \n        Click Here to Tune to Branson Gospel TV on ROKU\n\n        \n        \n                \n\n    \n\n\n\nTune Time: 5pm CSTMonday February 10th\, 2025
URL:https://danielkeithamerine.com/event/bgssa-program-february-6th-2025/
LOCATION:ROKU and WOTG TV Network – www.wotgtvnetwork.com
CATEGORIES:BGSSA Program
END:VEVENT
BEGIN:VEVENT
DTSTART;TZID=America/Chicago:20250201T173000
DTEND;TZID=America/Chicago:20250201T200000
DTSTAMP:20260422T131629
CREATED:20250130T195102Z
LAST-MODIFIED:20250131T170213Z
UID:2314-1738431000-1738440000@danielkeithamerine.com
SUMMARY:BGSSA Program (February 1st\, 2025)
DESCRIPTION:TUNE IN\n\n\n  \n  \n	\n\n\n\n\n\n\n  \n  \n	\n\n\n\n\n  \n  \n	\n\n\n\n\n        \n    \n    \n    \n    \n            \n                    \n            \n            \n\n    \n    \n    \n    \n    \n    \n\n    \n        Click Here to Tune In (WOTG TV Network website)\n\n        \n        \n                \n\n    \n\n\n\nTune Time: 5pm CSTMonday February 10th\, 2025\n\n\n  \n  \n	\n\n\n\n\n        \n    \n    \n    \n    \n            \n                    \n            \n            \n\n    \n    \n    \n    \n    \n    \n\n    \n        Click Here to Tune to Branson Gospel TV on ROKU\n\n        \n        \n                \n\n    \n\n\n\nTune Time: 5pm CSTMonday February 10th\, 2025
URL:https://danielkeithamerine.com/event/bgssa-program-february-1st-2025/
CATEGORIES:BGSSA Program
END:VEVENT
END:VCALENDAR